BEGIN:VCALENDAR
VERSION:2.0
PRODID:-//EfferVinSens - ECPv6.0.11//NONSGML v1.0//EN
CALSCALE:GREGORIAN
METHOD:PUBLISH
X-ORIGINAL-URL:https://effervinsens.com
X-WR-CALDESC:évènements pour EfferVinSens
REFRESH-INTERVAL;VALUE=DURATION:PT1H
X-Robots-Tag:noindex
X-PUBLISHED-TTL:PT1H
BEGIN:VTIMEZONE
TZID:Europe/Paris
BEGIN:DAYLIGHT
TZOFFSETFROM:+0100
TZOFFSETTO:+0200
TZNAME:CEST
DTSTART:20240331T010000
END:DAYLIGHT
BEGIN:STANDARD
TZOFFSETFROM:+0200
TZOFFSETTO:+0100
TZNAME:CET
DTSTART:20241027T010000
END:STANDARD
END:VTIMEZONE
BEGIN:VEVENT
DTSTART;TZID=Europe/Paris:20240521T200000
DTEND;TZID=Europe/Paris:20240521T223000
DTSTAMP:20260423T070902
CREATED:20240217T122646Z
LAST-MODIFIED:20240306T112324Z
UID:521-1716321600-1716330600@effervinsens.com
SUMMARY:Soirée dégustation du mardi 21 mai - vins natures
DESCRIPTION:Venez découvrir 5 vins de notre cave pour accompagner vos plats du mois de mai\, sur le thème des vins natures ! \nQuelques explications des références dégustées et les accords proposés\, le tout dans la bonne humeur avec planche de charcuterie & fromages \nPlaces assises\, 10 personnes maximum sur inscription uniquement (le magasin n’est pas extensible et pour prévoir au mieux les quantités :))\, sur contact@effervinsens.com ou directement au magasin
URL:https://effervinsens.com/index.php/evenement/soiree-degustation-du-mardi-21-mai/
CATEGORIES:Soirée dégustation
ATTACH;FMTTYPE=image/png:https://effervinsens.com/wp-content/uploads/2023/03/2023.05.png
END:VEVENT
END:VCALENDAR