BEGIN:VCALENDAR
VERSION:2.0
PRODID:-//EfferVinSens - ECPv6.0.11//NONSGML v1.0//EN
CALSCALE:GREGORIAN
METHOD:PUBLISH
X-WR-CALNAME:EfferVinSens
X-ORIGINAL-URL:https://effervinsens.com
X-WR-CALDESC:évènements pour EfferVinSens
REFRESH-INTERVAL;VALUE=DURATION:PT1H
X-Robots-Tag:noindex
X-PUBLISHED-TTL:PT1H
BEGIN:VTIMEZONE
TZID:Europe/Paris
BEGIN:DAYLIGHT
TZOFFSETFROM:+0100
TZOFFSETTO:+0200
TZNAME:CEST
DTSTART:20240331T010000
END:DAYLIGHT
BEGIN:STANDARD
TZOFFSETFROM:+0200
TZOFFSETTO:+0100
TZNAME:CET
DTSTART:20241027T010000
END:STANDARD
END:VTIMEZONE
BEGIN:VEVENT
DTSTART;TZID=Europe/Paris:20240320T200000
DTEND;TZID=Europe/Paris:20240320T220000
DTSTAMP:20260423T163958
CREATED:20240104T000531Z
LAST-MODIFIED:20240228T221604Z
UID:512-1710964800-1710972000@effervinsens.com
SUMMARY:Soirée dégustation du mercredi 20 mars - Languedoc Roussillon
DESCRIPTION:Venez découvrir 5 vins de notre cave pour accompagner vos plats du mois de mars\, sur le thème du Languedoc / Roussillon ! \nQuelques explications des références dégustées et les accords proposés\, le tout dans la bonne humeur avec planche de charcuterie & fromages \nPlaces assises\, 10 personnes maximum sur inscription uniquement (le magasin n’est pas extensible et pour prévoir au mieux les quantités :))\, sur contact@effervinsens.com ou directement au magasin
URL:https://effervinsens.com/index.php/evenement/soiree-degustation-du-mercredi-20-mars/
CATEGORIES:Soirée dégustation
ATTACH;FMTTYPE=image/png:https://effervinsens.com/wp-content/uploads/2023/03/2023.03.soiree-degust-mars.png
END:VEVENT
END:VCALENDAR