BEGIN:VCALENDAR
VERSION:2.0
PRODID:-//EfferVinSens - ECPv6.0.11//NONSGML v1.0//EN
CALSCALE:GREGORIAN
METHOD:PUBLISH
X-ORIGINAL-URL:https://effervinsens.com
X-WR-CALDESC:évènements pour EfferVinSens
REFRESH-INTERVAL;VALUE=DURATION:PT1H
X-Robots-Tag:noindex
X-PUBLISHED-TTL:PT1H
BEGIN:VTIMEZONE
TZID:Europe/Paris
BEGIN:DAYLIGHT
TZOFFSETFROM:+0100
TZOFFSETTO:+0200
TZNAME:CEST
DTSTART:20230326T010000
END:DAYLIGHT
BEGIN:STANDARD
TZOFFSETFROM:+0200
TZOFFSETTO:+0100
TZNAME:CET
DTSTART:20231029T010000
END:STANDARD
END:VTIMEZONE
BEGIN:VEVENT
DTSTART;TZID=Europe/Paris:20231207T200000
DTEND;TZID=Europe/Paris:20231207T220000
DTSTAMP:20260423T204303
CREATED:20230930T101440Z
LAST-MODIFIED:20230930T101440Z
UID:495-1701979200-1701986400@effervinsens.com
SUMMARY:Soirée dégustation du jeudi 7 décembre : spécial Noël !
DESCRIPTION:Dégustation spéciale : venez découvrir 5 vins de notre cave pour accompagner vos plats pour Noël et les fêtes de fin d’année ! \nQuelques explications des références dégustées et les accords proposés\, le tout dans la bonne humeur avec planche de charcuterie & fromages\, et les produits de l’épicerie fine de notre magasin. \nPlaces assises\, 10 personnes maximum sur inscription uniquement (le magasin n’est pas extensible et pour prévoir au mieux les quantités :))\, sur contact@effervinsens.com ou directement au magasin \nQuelques accords prévus\, entre autres : \n\nle foie gras\nles huitres\nla dinde ou pintade aux marrons\nle magret de canard\nspécial mer pour Noël : crevettes\, langoustines\, homards\, St Jacques\nles bûches de Noël
URL:https://effervinsens.com/index.php/evenement/soiree-degustation-du-jeudi-7-decembre-special-noel/
CATEGORIES:Soirée dégustation
END:VEVENT
END:VCALENDAR